BEGIN:VCALENDAR
VERSION:2.0
PRODID:-//https://calenda-formation.labocleo.org
X-WR-CALNAME:Calenda
X-WR-TIMEZONE:Europe/Paris
CALSCALE:GREGORIAN
X-WR-CALDESC:The calendar for arts, humanities and social sciences
METHOD:PUBLISH
BEGIN:VEVENT
DTSTART;VALUE=DATE:20090304
DTEND;VALUE=DATE:20090305
UID:198620-20090304@calenda.revues.org
SUMMARY:Cours hors les murs
URL:https://calenda-formation.labocleo.org/198620
DESCRIPTION:Conférences-débats\, Lyon\, mercredi 4 mars\, de 9h30 à 17h… @plus_info https://calenda-formation.labocleo.org/198620
LOCATION:Lyon
END:VEVENT
END:VCALENDAR
