BEGIN:VCALENDAR
VERSION:2.0
PRODID:-//https://calenda-formation.labocleo.org
X-WR-CALNAME:Calenda
X-WR-TIMEZONE:Europe/Paris
CALSCALE:GREGORIAN
X-WR-CALDESC:Le calendrier des lettres et sciences humaines et sociales
METHOD:PUBLISH
BEGIN:VEVENT
DTSTART;VALUE=DATE:20090612
DTEND;VALUE=DATE:20090613
UID:198647-20090612@calenda.revues.org
SUMMARY:Maître de conférences en sciences de l'éducation
URL:https://calenda-formation.labocleo.org/198647
DESCRIPTION:Poste à pourvoir à l'Institut Catholique de Paris… Weitere Informationen https://calenda-formation.labocleo.org/198647
LOCATION:Paris
END:VEVENT
END:VCALENDAR
