BEGIN:VCALENDAR
VERSION:2.0
PRODID:-//https://calenda-formation.labocleo.org
X-WR-CALNAME:Calenda
X-WR-TIMEZONE:Europe/Paris
CALSCALE:GREGORIAN
X-WR-CALDESC:Le calendrier des lettres et sciences humaines et sociales
METHOD:PUBLISH
BEGIN:VEVENT
DTSTART;VALUE=DATE:20090924
DTEND;VALUE=DATE:20090925
UID:198778-20090924@calenda.revues.org
SUMMARY:La rumeur au Moyen Âge
URL:https://calenda-formation.labocleo.org/198778
DESCRIPTION:Encore trop souvent abordée comme la simple expression d’un « irrationnel collectif »\, une forme de pathologie du corps social et liée à l’existence d’une opinion publique vaste\, la rumeur au Moyen Âge mérite d’être revisitée afin de mettre en lumièr… Más informaciones https://calenda-formation.labocleo.org/198778
LOCATION:Poitiers
END:VEVENT
BEGIN:VEVENT
DTSTART;VALUE=DATE:20090925
DTEND;VALUE=DATE:20090926
UID:198778-20090925@calenda.revues.org
SUMMARY:La rumeur au Moyen Âge
URL:https://calenda-formation.labocleo.org/198778
DESCRIPTION:Encore trop souvent abordée comme la simple expression d’un « irrationnel collectif »\, une forme de pathologie du corps social et liée à l’existence d’une opinion publique vaste\, la rumeur au Moyen Âge mérite d’être revisitée afin de mettre en lumièr… Más informaciones https://calenda-formation.labocleo.org/198778
LOCATION:Poitiers
END:VEVENT
BEGIN:VEVENT
DTSTART;VALUE=DATE:20090926
DTEND;VALUE=DATE:20090927
UID:198778-20090926@calenda.revues.org
SUMMARY:La rumeur au Moyen Âge
URL:https://calenda-formation.labocleo.org/198778
DESCRIPTION:Encore trop souvent abordée comme la simple expression d’un « irrationnel collectif »\, une forme de pathologie du corps social et liée à l’existence d’une opinion publique vaste\, la rumeur au Moyen Âge mérite d’être revisitée afin de mettre en lumièr… Más informaciones https://calenda-formation.labocleo.org/198778
LOCATION:Poitiers
END:VEVENT
END:VCALENDAR
