BEGIN:VCALENDAR
VERSION:2.0
PRODID:-//https://calenda-formation.labocleo.org
X-WR-CALNAME:Calenda
X-WR-TIMEZONE:Europe/Paris
CALSCALE:GREGORIAN
X-WR-CALDESC:The calendar for arts, humanities and social sciences
METHOD:PUBLISH
BEGIN:VEVENT
DTSTART;VALUE=DATE:20091024
DTEND;VALUE=DATE:20091025
UID:198852-20091024@calenda.revues.org
SUMMARY:Cultural Exchanges
URL:https://calenda-formation.labocleo.org/198852
DESCRIPTION:L’objectif du colloque est d’inciter à une réflexion\, dans une perspective multidisciplinaire\, sur les métissages qui forment le mouvement de notre univers. Cet appel s'adresse à la fois aux politologues\, aux historiens\, aux géographes\, aux sociologu… @plus_info https://calenda-formation.labocleo.org/198852
LOCATION:
END:VEVENT
END:VCALENDAR
