BEGIN:VCALENDAR
VERSION:2.0
PRODID:-//https://calenda-formation.labocleo.org
X-WR-CALNAME:Calenda
X-WR-TIMEZONE:Europe/Paris
CALSCALE:GREGORIAN
X-WR-CALDESC:Le calendrier des lettres et sciences humaines et sociales
METHOD:PUBLISH
BEGIN:VEVENT
DTSTART;VALUE=DATE:20091101
DTEND;VALUE=DATE:20091102
UID:198900-20091101@calenda.revues.org
SUMMARY:La poétique de l'espace dans l'œuvre de Marguerite Yourcenar
URL:https://calenda-formation.labocleo.org/198900
DESCRIPTION:Ce colloque propose d’aborder l’œuvre yourcenarienne sous l’angle de l’espace\, vu comme coordonnée des représentations du réel physique et social\, comme principe organisateur de l’œuvre. Les chemins que cette réflexion peut emprunter conduiront autan… @plus_info https://calenda-formation.labocleo.org/198900
LOCATION:Cluj-Napoca
END:VEVENT
END:VCALENDAR
