BEGIN:VCALENDAR
VERSION:2.0
PRODID:-//https://calenda-formation.labocleo.org
X-WR-CALNAME:Calenda
X-WR-TIMEZONE:Europe/Paris
CALSCALE:GREGORIAN
X-WR-CALDESC:The calendar for arts, humanities and social sciences
METHOD:PUBLISH
BEGIN:VEVENT
DTSTART;VALUE=DATE:20100215
DTEND;VALUE=DATE:20100216
UID:198975-20100215@calenda.revues.org
SUMMARY:Regov: regionalization of environmental governance
URL:https://calenda-formation.labocleo.org/198975
DESCRIPTION:Cette conférence (en anglais) vise à confronter les analyses des scientifiques (principalement géographes\, politologues et spécialistes de relations internationales) et des organisations internationales sur les processus actuels d'organisation à une … @plus_info https://calenda-formation.labocleo.org/198975
LOCATION:Geneva
END:VEVENT
END:VCALENDAR
