BEGIN:VCALENDAR
VERSION:2.0
PRODID:-//https://calenda-formation.labocleo.org
X-WR-CALNAME:Calenda
X-WR-TIMEZONE:Europe/Paris
CALSCALE:GREGORIAN
X-WR-CALDESC:O calendário de letras e de ciências sociais e humanas
METHOD:PUBLISH
BEGIN:VEVENT
DTSTART;VALUE=DATE:20091101
DTEND;VALUE=DATE:20091102
UID:198979-20091101@calenda.revues.org
SUMMARY:Découvrir aujourd'hui ce que sera demain
URL:https://calenda-formation.labocleo.org/198979
DESCRIPTION:L’association francophone pour le savoir – Acfas lance son appel de propositions en vue du congrès annuel de l’Acfas qui se tiendra à Montréal en mai 2010. Les chercheurs de la Francophonie de toutes les disciplines sont conviés à soumettre leur prop… @plus_info https://calenda-formation.labocleo.org/198979
LOCATION:Montreal
END:VEVENT
BEGIN:VEVENT
DTSTART;VALUE=DATE:20091130
DTEND;VALUE=DATE:20091201
UID:198979-20091130@calenda.revues.org
SUMMARY:Découvrir aujourd'hui ce que sera demain
URL:https://calenda-formation.labocleo.org/198979
DESCRIPTION:L’association francophone pour le savoir – Acfas lance son appel de propositions en vue du congrès annuel de l’Acfas qui se tiendra à Montréal en mai 2010. Les chercheurs de la Francophonie de toutes les disciplines sont conviés à soumettre leur prop… @plus_info https://calenda-formation.labocleo.org/198979
LOCATION:Montreal
END:VEVENT
END:VCALENDAR
