BEGIN:VCALENDAR
VERSION:2.0
PRODID:-//https://calenda-formation.labocleo.org
X-WR-CALNAME:Calenda
X-WR-TIMEZONE:Europe/Paris
CALSCALE:GREGORIAN
X-WR-CALDESC:Le calendrier des lettres et sciences humaines et sociales
METHOD:PUBLISH
BEGIN:VEVENT
DTSTART;VALUE=DATE:20091030
DTEND;VALUE=DATE:20091031
UID:198981-20091030@calenda.revues.org
SUMMARY:Se représenter autrement ? Les médias des minorités ethniques\, entre hégémonie et résistances
URL:https://calenda-formation.labocleo.org/198981
DESCRIPTION:Colloque international organisé les 18-19 mars 2010 à la MSHS de Poitiers\, par l’équipe européenne d’excellence MINORITYMEDIA (6e PCRDT / Université de Poitiers) et le laboratoire MIGRINTER (CNRS-UMR 6588). Ce colloque s’inscrit tout d’abord dans le … @plus_info https://calenda-formation.labocleo.org/198981
LOCATION:Poitiers
END:VEVENT
END:VCALENDAR
