BEGIN:VCALENDAR
VERSION:2.0
PRODID:-//https://calenda-formation.labocleo.org
X-WR-CALNAME:Calenda
X-WR-TIMEZONE:Europe/Paris
CALSCALE:GREGORIAN
X-WR-CALDESC:Le calendrier des lettres et sciences humaines et sociales
METHOD:PUBLISH
BEGIN:VEVENT
DTSTART;VALUE=DATE:20091001
DTEND;VALUE=DATE:20091002
UID:198984-20091001@calenda.revues.org
SUMMARY:La guerre de Sept Ans en Nouvelle-France
URL:https://calenda-formation.labocleo.org/198984
DESCRIPTION:Le service historique de la défense\, la délégation générale du Québec\, la fédération française de généalogie et la commission franco-québécoise sur les lieux de mémoire communs organisent\, le jeudi 1er octobre 2009 à 9 heures 30\, une journée d’études… Más informaciones https://calenda-formation.labocleo.org/198984
LOCATION:Vincennes
END:VEVENT
END:VCALENDAR
