BEGIN:VCALENDAR
VERSION:2.0
PRODID:-//https://calenda-formation.labocleo.org
X-WR-CALNAME:Calenda
X-WR-TIMEZONE:Europe/Paris
CALSCALE:GREGORIAN
X-WR-CALDESC:Le calendrier des lettres et sciences humaines et sociales
METHOD:PUBLISH
BEGIN:VEVENT
DTSTART;VALUE=DATE:20091015
DTEND;VALUE=DATE:20091016
UID:199012-20091015@calenda.revues.org
SUMMARY:Sciences sociales et monde de l'entreprise
URL:https://calenda-formation.labocleo.org/199012
DESCRIPTION:Les relations entre sciences sociales et entreprises peuvent sembler condamnées d’avance. Les études de sciences sociales\, qu’elles soient réalisées en interne\, ou commandées à des chercheurs extérieurs\, ne sont-elles pas destinées à être tronquées\, … Weitere Informationen https://calenda-formation.labocleo.org/199012
LOCATION:Lyon
END:VEVENT
END:VCALENDAR
