BEGIN:VCALENDAR
VERSION:2.0
PRODID:-//https://calenda-formation.labocleo.org
X-WR-CALNAME:Calenda
X-WR-TIMEZONE:Europe/Paris
CALSCALE:GREGORIAN
X-WR-CALDESC:Le calendrier des lettres et sciences humaines et sociales
METHOD:PUBLISH
BEGIN:VEVENT
DTSTART;VALUE=DATE:20091015
DTEND;VALUE=DATE:20091016
UID:199115-20091015@calenda.revues.org
SUMMARY:Le journalisme\, le droit et la justice
URL:https://calenda-formation.labocleo.org/199115
DESCRIPTION:Cette conférence est l'occasion d'une réflexion sur les rapports (concurrence\, complémentarité\, consubstantialité) entre le droit et la justice d'une part\, le travail journalistique d'autre part\, dans une période historique marquée par une emprise so… Weitere Informationen https://calenda-formation.labocleo.org/199115
LOCATION:Paris
END:VEVENT
END:VCALENDAR
