BEGIN:VCALENDAR
VERSION:2.0
PRODID:-//https://calenda-formation.labocleo.org
X-WR-CALNAME:Calenda
X-WR-TIMEZONE:Europe/Paris
CALSCALE:GREGORIAN
X-WR-CALDESC:O calendário de letras e de ciências sociais e humanas
METHOD:PUBLISH
BEGIN:VEVENT
DTSTART;VALUE=DATE:20100401
DTEND;VALUE=DATE:20100402
UID:199126-20100401@calenda.revues.org
SUMMARY:Fléau\, ressource\, exutoire : visions et usages des rivières urbaines (XVIIIe-XXIe siècle)
URL:https://calenda-formation.labocleo.org/199126
DESCRIPTION:L’objet de ce numéro est d’introduire un croisement entre l’histoire et la géographie au sujet du rapport sociétés/environnement\, qui permette de revisiter les profondes mutations des usages et des représentations des rivières urbaines\, depuis l’aube… @plus_info https://calenda-formation.labocleo.org/199126
LOCATION:
END:VEVENT
END:VCALENDAR
