BEGIN:VCALENDAR
VERSION:2.0
PRODID:-//https://calenda-formation.labocleo.org
X-WR-CALNAME:Calenda
X-WR-TIMEZONE:Europe/Paris
CALSCALE:GREGORIAN
X-WR-CALDESC:Le calendrier des lettres et sciences humaines et sociales
METHOD:PUBLISH
BEGIN:VEVENT
DTSTART;VALUE=DATE:20091204
DTEND;VALUE=DATE:20091205
UID:199158-20091204@calenda.revues.org
SUMMARY:Historiographie royale léonaise\, castillane et navarraise du XIIe siècle
URL:https://calenda-formation.labocleo.org/199158
DESCRIPTION:Navarrais\, le Liber regum défend les intérêts des dynastes issus de la restauration\, en 1134\, d’une royauté brutalement abolie en 1076. Ses sources\, émanant d’horizons territoriaux et culturels très divers\, la simplicité et la vigueur de sa construct… Weitere Informationen https://calenda-formation.labocleo.org/199158
LOCATION:Paris
END:VEVENT
BEGIN:VEVENT
DTSTART;VALUE=DATE:20091205
DTEND;VALUE=DATE:20091206
UID:199158-20091205@calenda.revues.org
SUMMARY:Historiographie royale léonaise\, castillane et navarraise du XIIe siècle
URL:https://calenda-formation.labocleo.org/199158
DESCRIPTION:Navarrais\, le Liber regum défend les intérêts des dynastes issus de la restauration\, en 1134\, d’une royauté brutalement abolie en 1076. Ses sources\, émanant d’horizons territoriaux et culturels très divers\, la simplicité et la vigueur de sa construct… Weitere Informationen https://calenda-formation.labocleo.org/199158
LOCATION:Paris
END:VEVENT
END:VCALENDAR
