BEGIN:VCALENDAR
VERSION:2.0
PRODID:-//https://calenda-formation.labocleo.org
X-WR-CALNAME:Calenda
X-WR-TIMEZONE:Europe/Paris
CALSCALE:GREGORIAN
X-WR-CALDESC:Le calendrier des lettres et sciences humaines et sociales
METHOD:PUBLISH
BEGIN:VEVENT
DTSTART;VALUE=DATE:20091016
DTEND;VALUE=DATE:20091017
UID:199186-20091016@calenda.revues.org
SUMMARY:Le cinéma d'animation sous les régimes autoritaires en Europe au XXe siècle
URL:https://calenda-formation.labocleo.org/199186
DESCRIPTION:Bien qu’aujourd’hui mal connu\, le cinéma d’animation produit en Europe sous les régimes autoritaires au XXe siècle compte quantité d’œuvres majeures. Ces films (courts métrages\, longs métrages\, séries) s’inscrivent dans un contexte politique particul… Weitere Informationen https://calenda-formation.labocleo.org/199186
LOCATION:Paris
END:VEVENT
END:VCALENDAR
