BEGIN:VCALENDAR
VERSION:2.0
PRODID:-//https://calenda-formation.labocleo.org
X-WR-CALNAME:Calenda
X-WR-TIMEZONE:Europe/Paris
CALSCALE:GREGORIAN
X-WR-CALDESC:Le calendrier des lettres et sciences humaines et sociales
METHOD:PUBLISH
BEGIN:VEVENT
DTSTART;VALUE=DATE:20091030
DTEND;VALUE=DATE:20091031
UID:199203-20091030@calenda.revues.org
SUMMARY:Géographes et géographie française à l'épreuve de la seconde guerre mondiale
URL:https://calenda-formation.labocleo.org/199203
DESCRIPTION:S’il existe un certain nombre d’études de géographes et d’historiens sur les relations entre les géographes français et le régime de Vichy\, aucune publication n’envisage de manière synthétique la question. L’ambition de cette journée d’études est de … Weitere Informationen https://calenda-formation.labocleo.org/199203
LOCATION:Paris
END:VEVENT
END:VCALENDAR
