BEGIN:VCALENDAR
VERSION:2.0
PRODID:-//https://calenda-formation.labocleo.org
X-WR-CALNAME:Calenda
X-WR-TIMEZONE:Europe/Paris
CALSCALE:GREGORIAN
X-WR-CALDESC:The calendar for arts, humanities and social sciences
METHOD:PUBLISH
BEGIN:VEVENT
DTSTART;VALUE=DATE:20100121
DTEND;VALUE=DATE:20100122
UID:199246-20100121@calenda.revues.org
SUMMARY:The map: demonstrate\, illustrate\, understand
URL:https://calenda-formation.labocleo.org/199246
DESCRIPTION:L'objectif de cette journée d'étude est de mieux envisager le cadre de production des cartes\, et d’interroger sur leur utilisation et l’impact de leur apport. Le spectre très large des applications de la cartographie aujourd’hui lui confère un rôle c… @plus_info https://calenda-formation.labocleo.org/199246
LOCATION:Mont-Saint-Aignan
END:VEVENT
END:VCALENDAR
