BEGIN:VCALENDAR
VERSION:2.0
PRODID:-//https://calenda-formation.labocleo.org
X-WR-CALNAME:Calenda
X-WR-TIMEZONE:Europe/Paris
CALSCALE:GREGORIAN
X-WR-CALDESC:Le calendrier des lettres et sciences humaines et sociales
METHOD:PUBLISH
BEGIN:VEVENT
DTSTART;VALUE=DATE:20091022
DTEND;VALUE=DATE:20091023
UID:199265-20091022@calenda.revues.org
SUMMARY:Choix scripturaux et production scientifique en sciences humaines et sociales
URL:https://calenda-formation.labocleo.org/199265
DESCRIPTION:Dans cette rencontre\, organisée par le Centre d'études des mondes africains (CEMAf)\, nous comptons explorer la relation à l’écriture de différents chercheurs et en analyser l’incidence sur leur production scientifique. Une telle étude suppose\, pour c… Weitere Informationen https://calenda-formation.labocleo.org/199265
LOCATION:Ivry-sur-Seine
END:VEVENT
BEGIN:VEVENT
DTSTART;VALUE=DATE:20091021
DTEND;VALUE=DATE:20091022
UID:199265-20091021@calenda.revues.org
SUMMARY:Choix scripturaux et production scientifique en sciences humaines et sociales
URL:https://calenda-formation.labocleo.org/199265
DESCRIPTION:Dans cette rencontre\, organisée par le Centre d'études des mondes africains (CEMAf)\, nous comptons explorer la relation à l’écriture de différents chercheurs et en analyser l’incidence sur leur production scientifique. Une telle étude suppose\, pour c… Weitere Informationen https://calenda-formation.labocleo.org/199265
LOCATION:Ivry-sur-Seine
END:VEVENT
END:VCALENDAR
