BEGIN:VCALENDAR
VERSION:2.0
PRODID:-//https://calenda-formation.labocleo.org
X-WR-CALNAME:Calenda
X-WR-TIMEZONE:Europe/Paris
CALSCALE:GREGORIAN
X-WR-CALDESC:Le calendrier des lettres et sciences humaines et sociales
METHOD:PUBLISH
BEGIN:VEVENT
DTSTART;VALUE=DATE:20091125
DTEND;VALUE=DATE:20091126
UID:199308-20091125@calenda.revues.org
SUMMARY:1989 : année écologique en URSS
URL:https://calenda-formation.labocleo.org/199308
DESCRIPTION:Vingt ans après\, alors que l’attention se focalise sur la rupture que l’année 1989 constitue pour les pays de l’Europe centrale\, notre intérêt se porte en contrepoint sur l’Union soviétique de la perestroïka et de la glasnost’. L’année 1989 y est mar… Weitere Informationen https://calenda-formation.labocleo.org/199308
LOCATION:Paris
END:VEVENT
END:VCALENDAR
