BEGIN:VCALENDAR
VERSION:2.0
PRODID:-//https://calenda-formation.labocleo.org
X-WR-CALNAME:Calenda
X-WR-TIMEZONE:Europe/Paris
CALSCALE:GREGORIAN
X-WR-CALDESC:Le calendrier des lettres et sciences humaines et sociales
METHOD:PUBLISH
BEGIN:VEVENT
DTSTART;VALUE=DATE:20091210
DTEND;VALUE=DATE:20091211
UID:199342-20091210@calenda.revues.org
SUMMARY:Quand la « Grande Muette » s'exprime
URL:https://calenda-formation.labocleo.org/199342
DESCRIPTION:L’association des doctorants en sciences humaines et arts de l’université de Poitiers (SHADOC) organise\, en parallèle d'une exposition proposée par le Musée du Sous-officier et le Musée des troupes de montagne\, une journée d'études intitulée « Quand … Weitere Informationen https://calenda-formation.labocleo.org/199342
LOCATION:
END:VEVENT
END:VCALENDAR
