BEGIN:VCALENDAR
VERSION:2.0
PRODID:-//https://calenda-formation.labocleo.org
X-WR-CALNAME:Calenda
X-WR-TIMEZONE:Europe/Paris
CALSCALE:GREGORIAN
X-WR-CALDESC:Le calendrier des lettres et sciences humaines et sociales
METHOD:PUBLISH
BEGIN:VEVENT
DTSTART;VALUE=DATE:20091202
DTEND;VALUE=DATE:20091203
UID:199352-20091202@calenda.revues.org
SUMMARY:Pratiques d'enseignement et représentations
URL:https://calenda-formation.labocleo.org/199352
DESCRIPTION:Une journée d'étude sur les pratiques d'enseignement et les représentations est organisée par l'équipe RECIFES de l'Université d'Artois. Toutes les informations sont sur le site web de l'équipe à l'adresse suivante : http://www.univ-artois.fr/recherc… Más informaciones https://calenda-formation.labocleo.org/199352
LOCATION:Arras
END:VEVENT
END:VCALENDAR
