BEGIN:VCALENDAR
VERSION:2.0
PRODID:-//https://calenda-formation.labocleo.org
X-WR-CALNAME:Calenda
X-WR-TIMEZONE:Europe/Paris
CALSCALE:GREGORIAN
X-WR-CALDESC:Le calendrier des lettres et sciences humaines et sociales
METHOD:PUBLISH
BEGIN:VEVENT
DTSTART;VALUE=DATE:20100528
DTEND;VALUE=DATE:20100529
UID:199405-20100528@calenda.revues.org
SUMMARY:Les mandements des princes-évêques de Liège
URL:https://calenda-formation.labocleo.org/199405
DESCRIPTION:Les mandements imprimés des princes-évêques de Liège en matière ecclésiastique forment l’un des ensembles documentaires les plus intéressants des Archives de l’évêché de Liège mais ils restent peu connus et pratiquement pas mis en valeur. Le colloque… Weitere Informationen https://calenda-formation.labocleo.org/199405
LOCATION:Lüttich
END:VEVENT
END:VCALENDAR
