BEGIN:VCALENDAR
VERSION:2.0
PRODID:-//https://calenda-formation.labocleo.org
X-WR-CALNAME:Calenda
X-WR-TIMEZONE:Europe/Paris
CALSCALE:GREGORIAN
X-WR-CALDESC:Le calendrier des lettres et sciences humaines et sociales
METHOD:PUBLISH
BEGIN:VEVENT
DTSTART;VALUE=DATE:20091116
DTEND;VALUE=DATE:20091117
UID:199481-20091116@calenda.revues.org
SUMMARY:Les élites religieuses dans l’arène du développement
URL:https://calenda-formation.labocleo.org/199481
DESCRIPTION:Le Bulletin de l’APAD est désormais une revue à comité de lecture qui publie\, pour novembre 2010\, un numéro thématique sur l’implication des élites religieuses dans les actions de développement en Afrique. Les propositions\, de 500 mots minimum\, sont … @plus_info https://calenda-formation.labocleo.org/199481
LOCATION:
END:VEVENT
END:VCALENDAR
