BEGIN:VCALENDAR
VERSION:2.0
PRODID:-//https://calenda-formation.labocleo.org
X-WR-CALNAME:Calenda
X-WR-TIMEZONE:Europe/Paris
CALSCALE:GREGORIAN
X-WR-CALDESC:Le calendrier des lettres et sciences humaines et sociales
METHOD:PUBLISH
BEGIN:VEVENT
DTSTART;VALUE=DATE:20091215
DTEND;VALUE=DATE:20091216
UID:199498-20091215@calenda.revues.org
SUMMARY:Issue-Linkages and Regime-Complexes
URL:https://calenda-formation.labocleo.org/199498
DESCRIPTION:International politics have been handled by a growing number of international regimes\, in extended issue areas such as international economy\, security\, migration\, or the environment. While these regimes were initially meant to address specific issues… Weitere Informationen https://calenda-formation.labocleo.org/199498
LOCATION:
END:VEVENT
END:VCALENDAR
