BEGIN:VCALENDAR
VERSION:2.0
PRODID:-//https://calenda-formation.labocleo.org
X-WR-CALNAME:Calenda
X-WR-TIMEZONE:Europe/Paris
CALSCALE:GREGORIAN
X-WR-CALDESC:Le calendrier des lettres et sciences humaines et sociales
METHOD:PUBLISH
BEGIN:VEVENT
DTSTART;VALUE=DATE:20100215
DTEND;VALUE=DATE:20100216
UID:199547-20100215@calenda.revues.org
SUMMARY:« Lieux de mémoire » en Orient grec à l'époque impériale
URL:https://calenda-formation.labocleo.org/199547
DESCRIPTION:Colloque international\, Université de Lausanne\, 6-8 avril 2011 : la notion de « lieux de mémoire »\, depuis qu'elle a été développée par les travaux de P. Nora au milieu des années quatre-vingts\, a largement démontré sa pertinence et sa richesse dans … Weitere Informationen https://calenda-formation.labocleo.org/199547
LOCATION:Lausanne
END:VEVENT
END:VCALENDAR
