BEGIN:VCALENDAR
VERSION:2.0
PRODID:-//https://calenda-formation.labocleo.org
X-WR-CALNAME:Calenda
X-WR-TIMEZONE:Europe/Paris
CALSCALE:GREGORIAN
X-WR-CALDESC:Le calendrier des lettres et sciences humaines et sociales
METHOD:PUBLISH
BEGIN:VEVENT
DTSTART;VALUE=DATE:20100110
DTEND;VALUE=DATE:20100111
UID:199557-20100110@calenda.revues.org
SUMMARY:Affinités électives\, amitié et rapports d'obligation dans l'enquête en sociologie et en science politique
URL:https://calenda-formation.labocleo.org/199557
DESCRIPTION:Appel à communications pour des journées d'études organisées avec le soutien du programme doctoral « amis\, protecteurs\, obligés » de l'Université de Freiburg\, du Ceraps (Lille 2)\, de Sciences Po Bordeaux et du Laboratoire européen associé « Comparer … Weitere Informationen https://calenda-formation.labocleo.org/199557
LOCATION:Freiburg
END:VEVENT
END:VCALENDAR
