BEGIN:VCALENDAR
VERSION:2.0
PRODID:-//https://calenda-formation.labocleo.org
X-WR-CALNAME:Calenda
X-WR-TIMEZONE:Europe/Paris
CALSCALE:GREGORIAN
X-WR-CALDESC:Le calendrier des lettres et sciences humaines et sociales
METHOD:PUBLISH
BEGIN:VEVENT
DTSTART;VALUE=DATE:20100115
DTEND;VALUE=DATE:20100116
UID:199567-20100115@calenda.revues.org
SUMMARY:Santé\, environnement\, développement : regards croisés
URL:https://calenda-formation.labocleo.org/199567
DESCRIPTION:Les quatrièmes journées des doctorants du LPED sont\, cette année\, consacrées au tryptique développement\, environnement et santé dans une perspective pluridisciplinaire. Ces journées sont l’occasion pour les doctorants issus de des sciences sociales o… Weitere Informationen https://calenda-formation.labocleo.org/199567
LOCATION:Marseille
END:VEVENT
END:VCALENDAR
