BEGIN:VCALENDAR
VERSION:2.0
PRODID:-//https://calenda-formation.labocleo.org
X-WR-CALNAME:Calenda
X-WR-TIMEZONE:Europe/Paris
CALSCALE:GREGORIAN
X-WR-CALDESC:O calendário de letras e de ciências sociais e humanas
METHOD:PUBLISH
BEGIN:VEVENT
DTSTART;VALUE=DATE:20091214
DTEND;VALUE=DATE:20091215
UID:199582-20091214@calenda.revues.org
SUMMARY:Afonso Henriques: em torno da criação e consolidação das monarquias do Ocidente Europeu  (séculos XII-XIII)
URL:https://calenda-formation.labocleo.org/199582
DESCRIPTION:No ano em que se perfazem 900 anos sobre o nascimento do primeiro rei português\, Afonso Henriques\, entendeu o Centro de História da Faculdade de Letras da Universidade de Lisboa\, no âmbito da sua linha de investigação sobre Modelos Identitários\, acol… @plus_info https://calenda-formation.labocleo.org/199582
LOCATION:Lisbon
END:VEVENT
BEGIN:VEVENT
DTSTART;VALUE=DATE:20091215
DTEND;VALUE=DATE:20091216
UID:199582-20091215@calenda.revues.org
SUMMARY:Afonso Henriques: em torno da criação e consolidação das monarquias do Ocidente Europeu  (séculos XII-XIII)
URL:https://calenda-formation.labocleo.org/199582
DESCRIPTION:No ano em que se perfazem 900 anos sobre o nascimento do primeiro rei português\, Afonso Henriques\, entendeu o Centro de História da Faculdade de Letras da Universidade de Lisboa\, no âmbito da sua linha de investigação sobre Modelos Identitários\, acol… @plus_info https://calenda-formation.labocleo.org/199582
LOCATION:Lisbon
END:VEVENT
BEGIN:VEVENT
DTSTART;VALUE=DATE:20091216
DTEND;VALUE=DATE:20091217
UID:199582-20091216@calenda.revues.org
SUMMARY:Afonso Henriques: em torno da criação e consolidação das monarquias do Ocidente Europeu  (séculos XII-XIII)
URL:https://calenda-formation.labocleo.org/199582
DESCRIPTION:No ano em que se perfazem 900 anos sobre o nascimento do primeiro rei português\, Afonso Henriques\, entendeu o Centro de História da Faculdade de Letras da Universidade de Lisboa\, no âmbito da sua linha de investigação sobre Modelos Identitários\, acol… @plus_info https://calenda-formation.labocleo.org/199582
LOCATION:Lisbon
END:VEVENT
END:VCALENDAR
