BEGIN:VCALENDAR
VERSION:2.0
PRODID:-//https://calenda-formation.labocleo.org
X-WR-CALNAME:Calenda
X-WR-TIMEZONE:Europe/Paris
CALSCALE:GREGORIAN
X-WR-CALDESC:Le calendrier des lettres et sciences humaines et sociales
METHOD:PUBLISH
BEGIN:VEVENT
DTSTART;VALUE=DATE:20091214
DTEND;VALUE=DATE:20091215
UID:199582-20091214@calenda.revues.org
SUMMARY:Afonso Henriques International Meeting: on constructing and consolidating monarchies in Medieval West (12th-13th centuries)
URL:https://calenda-formation.labocleo.org/199582
DESCRIPTION:In the year which marks the 900th anniversary of the birth of the first King of Portugal\, Afonso Henriques\, the Centro de História of the Faculdade de Letras of Lisbon\, decided\, within the frame of its Research Group on Identity Models\, to host an In… @plus_info https://calenda-formation.labocleo.org/199582
LOCATION:Lisbonne
END:VEVENT
BEGIN:VEVENT
DTSTART;VALUE=DATE:20091215
DTEND;VALUE=DATE:20091216
UID:199582-20091215@calenda.revues.org
SUMMARY:Afonso Henriques International Meeting: on constructing and consolidating monarchies in Medieval West (12th-13th centuries)
URL:https://calenda-formation.labocleo.org/199582
DESCRIPTION:In the year which marks the 900th anniversary of the birth of the first King of Portugal\, Afonso Henriques\, the Centro de História of the Faculdade de Letras of Lisbon\, decided\, within the frame of its Research Group on Identity Models\, to host an In… @plus_info https://calenda-formation.labocleo.org/199582
LOCATION:Lisbonne
END:VEVENT
BEGIN:VEVENT
DTSTART;VALUE=DATE:20091216
DTEND;VALUE=DATE:20091217
UID:199582-20091216@calenda.revues.org
SUMMARY:Afonso Henriques International Meeting: on constructing and consolidating monarchies in Medieval West (12th-13th centuries)
URL:https://calenda-formation.labocleo.org/199582
DESCRIPTION:In the year which marks the 900th anniversary of the birth of the first King of Portugal\, Afonso Henriques\, the Centro de História of the Faculdade de Letras of Lisbon\, decided\, within the frame of its Research Group on Identity Models\, to host an In… @plus_info https://calenda-formation.labocleo.org/199582
LOCATION:Lisbonne
END:VEVENT
END:VCALENDAR
