BEGIN:VCALENDAR
VERSION:2.0
PRODID:-//https://calenda-formation.labocleo.org
X-WR-CALNAME:Calenda
X-WR-TIMEZONE:Europe/Paris
CALSCALE:GREGORIAN
X-WR-CALDESC:Le calendrier des lettres et sciences humaines et sociales
METHOD:PUBLISH
BEGIN:VEVENT
DTSTART;VALUE=DATE:20100301
DTEND;VALUE=DATE:20100302
UID:199649-20100301@calenda.revues.org
SUMMARY:Regards croisés sur les migrations internationales féminines et la protection sociale
URL:https://calenda-formation.labocleo.org/199649
DESCRIPTION:Au cours des dernières années\, les flux migratoires mondiaux se sont énormément développés et les grands mouvements migratoires vont principalement de l’Afrique\, de l’Amérique latine\, des pays asiatiques vers l’Europe\, les États-Unis ou le Canada ave… @plus_info https://calenda-formation.labocleo.org/199649
LOCATION:
END:VEVENT
END:VCALENDAR
