BEGIN:VCALENDAR
VERSION:2.0
PRODID:-//https://calenda-formation.labocleo.org
X-WR-CALNAME:Calenda
X-WR-TIMEZONE:Europe/Paris
CALSCALE:GREGORIAN
X-WR-CALDESC:The calendar for arts, humanities and social sciences
METHOD:PUBLISH
BEGIN:VEVENT
DTSTART;VALUE=DATE:20091231
DTEND;VALUE=DATE:20100101
UID:199721-20091231@calenda.revues.org
SUMMARY:La vie étudiante vue par les étudiants
URL:https://calenda-formation.labocleo.org/199721
DESCRIPTION:L'OVE organise chaque année un concours national annuel destiné à encourager les recherches sur les conditions de vie et d'études menées par les étudiants eux-mêmes.… @plus_info https://calenda-formation.labocleo.org/199721
LOCATION:
END:VEVENT
END:VCALENDAR
