BEGIN:VCALENDAR
VERSION:2.0
PRODID:-//https://calenda-formation.labocleo.org
X-WR-CALNAME:Calenda
X-WR-TIMEZONE:Europe/Paris
CALSCALE:GREGORIAN
X-WR-CALDESC:Le calendrier des lettres et sciences humaines et sociales
METHOD:PUBLISH
BEGIN:VEVENT
DTSTART;VALUE=DATE:20100115
DTEND;VALUE=DATE:20100116
UID:199774-20100115@calenda.revues.org
SUMMARY:Quelle régulation pour les nouveaux mouvements religieux et les dérives sectaires dans l’Union européenne ?
URL:https://calenda-formation.labocleo.org/199774
DESCRIPTION:En invitant des sociologues\, des juristes\, des anthropologues ainsi que des hauts fonctionnaires de différents pays européens au fait des questions liées aux nouveaux mouvements religieux et aux dérives sectaires\, ce colloque voudrait aider à mieux c… @plus_info https://calenda-formation.labocleo.org/199774
LOCATION:Paris
END:VEVENT
END:VCALENDAR
