BEGIN:VCALENDAR
VERSION:2.0
PRODID:-//https://calenda-formation.labocleo.org
X-WR-CALNAME:Calenda
X-WR-TIMEZONE:Europe/Paris
CALSCALE:GREGORIAN
X-WR-CALDESC:Le calendrier des lettres et sciences humaines et sociales
METHOD:PUBLISH
BEGIN:VEVENT
DTSTART;VALUE=DATE:20100118
DTEND;VALUE=DATE:20100119
UID:199799-20100118@calenda.revues.org
SUMMARY:Les identités collectives en Amérique andine
URL:https://calenda-formation.labocleo.org/199799
DESCRIPTION:Les populations qui peuplent l'Amérique andine ont diversement retenu l'attention des recherches en sciences sociales. Articulant différentes problématiques ayant toutes en commun de toucher à la question de l’ethnicité\, ce numéro thématique se décli… Weitere Informationen https://calenda-formation.labocleo.org/199799
LOCATION:
END:VEVENT
END:VCALENDAR
