BEGIN:VCALENDAR
VERSION:2.0
PRODID:-//https://calenda-formation.labocleo.org
X-WR-CALNAME:Calenda
X-WR-TIMEZONE:Europe/Paris
CALSCALE:GREGORIAN
X-WR-CALDESC:The calendar for arts, humanities and social sciences
METHOD:PUBLISH
BEGIN:VEVENT
DTSTART;VALUE=DATE:20100228
DTEND;VALUE=DATE:20100301
UID:199814-20100228@calenda.revues.org
SUMMARY:Craft and Création: history and views
URL:https://calenda-formation.labocleo.org/199814
DESCRIPTION:L'Institut supérieur des arts et métiers de Kairouan organise vers le mois d'avril 2010 un colloque international portant sur « Artisanat et création : histoire et perspectives ». Les axes de recherches sont les suivant : l’histoire de l’artisanat en… @plus_info https://calenda-formation.labocleo.org/199814
LOCATION:Kairouan
END:VEVENT
END:VCALENDAR
