BEGIN:VCALENDAR
VERSION:2.0
PRODID:-//https://calenda-formation.labocleo.org
X-WR-CALNAME:Calenda
X-WR-TIMEZONE:Europe/Paris
CALSCALE:GREGORIAN
X-WR-CALDESC:Le calendrier des lettres et sciences humaines et sociales
METHOD:PUBLISH
BEGIN:VEVENT
DTSTART;VALUE=DATE:20100128
DTEND;VALUE=DATE:20100129
UID:199833-20100128@calenda.revues.org
SUMMARY:Muséographie du musée d'art (1919-1939)
URL:https://calenda-formation.labocleo.org/199833
DESCRIPTION:Journée d’études organisée par les Musées de Strasbourg\, en collaboration avec le Centre allemand d’histoire de l’art\, dans le cadre de l’exposition « Hans Haug\, homme de musées. Une passion à l’œuvre »\, Strasbourg\, Palais Rohan\, Galerie Heitz\, 8 oct… @plus_info https://calenda-formation.labocleo.org/199833
LOCATION:Strasbourg
END:VEVENT
BEGIN:VEVENT
DTSTART;VALUE=DATE:20100129
DTEND;VALUE=DATE:20100130
UID:199833-20100129@calenda.revues.org
SUMMARY:Muséographie du musée d'art (1919-1939)
URL:https://calenda-formation.labocleo.org/199833
DESCRIPTION:Journée d’études organisée par les Musées de Strasbourg\, en collaboration avec le Centre allemand d’histoire de l’art\, dans le cadre de l’exposition « Hans Haug\, homme de musées. Une passion à l’œuvre »\, Strasbourg\, Palais Rohan\, Galerie Heitz\, 8 oct… @plus_info https://calenda-formation.labocleo.org/199833
LOCATION:Strasbourg
END:VEVENT
END:VCALENDAR
