BEGIN:VCALENDAR
VERSION:2.0
PRODID:-//https://calenda-formation.labocleo.org
X-WR-CALNAME:Calenda
X-WR-TIMEZONE:Europe/Paris
CALSCALE:GREGORIAN
X-WR-CALDESC:The calendar for arts, humanities and social sciences
METHOD:PUBLISH
BEGIN:VEVENT
DTSTART;VALUE=DATE:20100225
DTEND;VALUE=DATE:20100226
UID:199875-20100225@calenda.revues.org
SUMMARY:Translatio imaginum
URL:https://calenda-formation.labocleo.org/199875
DESCRIPTION:According to which logics do images migrate\, metamorphose\, transform themselves? Is it possible to translate an image? How do images convey meaning through their incessant self-alteration? The conference "Translatio imaginum" aims at conceptualizing … @plus_info https://calenda-formation.labocleo.org/199875
LOCATION:Basel
END:VEVENT
BEGIN:VEVENT
DTSTART;VALUE=DATE:20100226
DTEND;VALUE=DATE:20100227
UID:199875-20100226@calenda.revues.org
SUMMARY:Translatio imaginum
URL:https://calenda-formation.labocleo.org/199875
DESCRIPTION:According to which logics do images migrate\, metamorphose\, transform themselves? Is it possible to translate an image? How do images convey meaning through their incessant self-alteration? The conference "Translatio imaginum" aims at conceptualizing … @plus_info https://calenda-formation.labocleo.org/199875
LOCATION:Basel
END:VEVENT
BEGIN:VEVENT
DTSTART;VALUE=DATE:20100227
DTEND;VALUE=DATE:20100228
UID:199875-20100227@calenda.revues.org
SUMMARY:Translatio imaginum
URL:https://calenda-formation.labocleo.org/199875
DESCRIPTION:According to which logics do images migrate\, metamorphose\, transform themselves? Is it possible to translate an image? How do images convey meaning through their incessant self-alteration? The conference "Translatio imaginum" aims at conceptualizing … @plus_info https://calenda-formation.labocleo.org/199875
LOCATION:Basel
END:VEVENT
END:VCALENDAR
