BEGIN:VCALENDAR
VERSION:2.0
PRODID:-//https://calenda-formation.labocleo.org
X-WR-CALNAME:Calenda
X-WR-TIMEZONE:Europe/Paris
CALSCALE:GREGORIAN
X-WR-CALDESC:The calendar for arts, humanities and social sciences
METHOD:PUBLISH
BEGIN:VEVENT
DTSTART;VALUE=DATE:20100122
DTEND;VALUE=DATE:20100123
UID:199958-20100122@calenda.revues.org
SUMMARY:Suicide in prison: prevention and assessment
URL:https://calenda-formation.labocleo.org/199958
DESCRIPTION:À l’initiative de la direction de l’Administration pénitentiaire est organisée à l’École nationale de la magistrature à Paris\, une journée d’étude internationale sur les suicides en prison. L’actualité de cette journée d’étude tient à un constat : la… @plus_info https://calenda-formation.labocleo.org/199958
LOCATION:Paris
END:VEVENT
END:VCALENDAR
