BEGIN:VCALENDAR
VERSION:2.0
PRODID:-//https://calenda-formation.labocleo.org
X-WR-CALNAME:Calenda
X-WR-TIMEZONE:Europe/Paris
CALSCALE:GREGORIAN
X-WR-CALDESC:The calendar for arts, humanities and social sciences
METHOD:PUBLISH
BEGIN:VEVENT
DTSTART;VALUE=DATE:20100401
DTEND;VALUE=DATE:20100402
UID:199971-20100401@calenda.revues.org
SUMMARY:Co-operative Contributions to a Plural Economy
URL:https://calenda-formation.labocleo.org/199971
DESCRIPTION:L’existence du monde coopératif met en acte l’idée d’une économie plurielle\, c’est-à-dire articulée autour d’une pluralité de formes d’organisation de la production et des échanges. Pour le monde coopératif\, les principaux enjeux de cette pluralité s… @plus_info https://calenda-formation.labocleo.org/199971
LOCATION:Lyon
END:VEVENT
END:VCALENDAR
