BEGIN:VCALENDAR
VERSION:2.0
PRODID:-//https://calenda-formation.labocleo.org
X-WR-CALNAME:Calenda
X-WR-TIMEZONE:Europe/Paris
CALSCALE:GREGORIAN
X-WR-CALDESC:Le calendrier des lettres et sciences humaines et sociales
METHOD:PUBLISH
BEGIN:VEVENT
DTSTART;VALUE=DATE:20100203
DTEND;VALUE=DATE:20100204
UID:200047-20100203@calenda.revues.org
SUMMARY:Quatrième conférence « Communication et argumentation dans la sphère publique »
URL:https://calenda-formation.labocleo.org/200047
DESCRIPTION:La quatrième conférence « Communication et argumentation dans la sphère publique » est organisée par le centre de recherches Théorie et pratique du discours de l'université Dunarea de Jos de Galati\, Roumanie du 13 au 16 mai 2010. L’objectif de la con… Más informaciones https://calenda-formation.labocleo.org/200047
LOCATION:Galaţi
END:VEVENT
END:VCALENDAR
