BEGIN:VCALENDAR
VERSION:2.0
PRODID:-//https://calenda-formation.labocleo.org
X-WR-CALNAME:Calenda
X-WR-TIMEZONE:Europe/Paris
CALSCALE:GREGORIAN
X-WR-CALDESC:Le calendrier des lettres et sciences humaines et sociales
METHOD:PUBLISH
BEGIN:VEVENT
DTSTART;VALUE=DATE:20100226
DTEND;VALUE=DATE:20100227
UID:200176-20100226@calenda.revues.org
SUMMARY:Le multiculturalisme a-t-il un avenir ?
URL:https://calenda-formation.labocleo.org/200176
DESCRIPTION:La situation inédite d’un rejet partiel du multiculturalisme par certains de ses premiers promoteurs ainsi qu’une ouverture à ce modèle politique par des cultures républicaines plus traditionnelles invite à réévaluer la légitimité normative ainsi que… @plus_info https://calenda-formation.labocleo.org/200176
LOCATION:Paris
END:VEVENT
END:VCALENDAR
