BEGIN:VCALENDAR
VERSION:2.0
PRODID:-//https://calenda-formation.labocleo.org
X-WR-CALNAME:Calenda
X-WR-TIMEZONE:Europe/Paris
CALSCALE:GREGORIAN
X-WR-CALDESC:Le calendrier des lettres et sciences humaines et sociales
METHOD:PUBLISH
BEGIN:VEVENT
DTSTART;VALUE=DATE:20100901
DTEND;VALUE=DATE:20100902
UID:200233-20100901@calenda.revues.org
SUMMARY:Dossier sur le baseball dans les Cahiers de l'idiotie
URL:https://calenda-formation.labocleo.org/200233
DESCRIPTION:Les Cahiers de l’idiotie (www.cahiers-idiotie.org) proposent des numéros thématiques sur des objets singuliers et sur des auteurs américains. En correspondance avec ses principes et avec son projet scientifique\, les Cahiers s’offrent à la communauté … @plus_info https://calenda-formation.labocleo.org/200233
LOCATION:
END:VEVENT
END:VCALENDAR
