BEGIN:VCALENDAR
VERSION:2.0
PRODID:-//https://calenda-formation.labocleo.org
X-WR-CALNAME:Calenda
X-WR-TIMEZONE:Europe/Paris
CALSCALE:GREGORIAN
X-WR-CALDESC:Le calendrier des lettres et sciences humaines et sociales
METHOD:PUBLISH
BEGIN:VEVENT
DTSTART;VALUE=DATE:20100306
DTEND;VALUE=DATE:20100307
UID:200281-20100306@calenda.revues.org
SUMMARY:Des normes\, leur publicité et leur application dans les collectivités locales du monde romain 
URL:https://calenda-formation.labocleo.org/200281
DESCRIPTION:Pendant deux ans (2008 et 2009)\, nous nous sommes consacrés aux relations entre les sanctuaires et les pouvoirs locaux aux époques antique et médiévale ; l’année 2010 verra la publication des deux journées qui ont été consacrées à cette thématique. À… Weitere Informationen https://calenda-formation.labocleo.org/200281
LOCATION:Clermont-Ferrand
END:VEVENT
END:VCALENDAR
