BEGIN:VCALENDAR
VERSION:2.0
PRODID:-//https://calenda-formation.labocleo.org
X-WR-CALNAME:Calenda
X-WR-TIMEZONE:Europe/Paris
CALSCALE:GREGORIAN
X-WR-CALDESC:The calendar for arts, humanities and social sciences
METHOD:PUBLISH
BEGIN:VEVENT
DTSTART;VALUE=DATE:20100421
DTEND;VALUE=DATE:20100422
UID:200545-20100421@calenda.revues.org
SUMMARY:Territories\, actors for change
URL:https://calenda-formation.labocleo.org/200545
DESCRIPTION:Puisque le territoire\, en tant que notion très largement partagée dans l’ensemble des sciences sociales et humaines\, ne daigne pas s’affaiblir depuis plus de vingt ans\, ces deuxièmes Rencontres TTT de Grenoble proposent de continuer à questionner cet… @plus_info https://calenda-formation.labocleo.org/200545
LOCATION:Grenoble
END:VEVENT
END:VCALENDAR
