BEGIN:VCALENDAR
VERSION:2.0
PRODID:-//https://calenda-formation.labocleo.org
X-WR-CALNAME:Calenda
X-WR-TIMEZONE:Europe/Paris
CALSCALE:GREGORIAN
X-WR-CALDESC:O calendário de letras e de ciências sociais e humanas
METHOD:PUBLISH
BEGIN:VEVENT
DTSTART;VALUE=DATE:20100331
DTEND;VALUE=DATE:20100401
UID:200552-20100331@calenda.revues.org
SUMMARY:Les horizons de la politique extérieure française
URL:https://calenda-formation.labocleo.org/200552
DESCRIPTION:Dans le cadre d’un programme pluri-annuel de recherches sur les conflits et les relations internationales en Europe et dans ses périphéries réflexion\, le Centre de recherches en histoire internationale et atlantique (CRHIA\, université de Nantes) et l… @plus_info https://calenda-formation.labocleo.org/200552
LOCATION:Nantes
END:VEVENT
BEGIN:VEVENT
DTSTART;VALUE=DATE:20100401
DTEND;VALUE=DATE:20100402
UID:200552-20100401@calenda.revues.org
SUMMARY:Les horizons de la politique extérieure française
URL:https://calenda-formation.labocleo.org/200552
DESCRIPTION:Dans le cadre d’un programme pluri-annuel de recherches sur les conflits et les relations internationales en Europe et dans ses périphéries réflexion\, le Centre de recherches en histoire internationale et atlantique (CRHIA\, université de Nantes) et l… @plus_info https://calenda-formation.labocleo.org/200552
LOCATION:Nantes
END:VEVENT
END:VCALENDAR
