BEGIN:VCALENDAR
VERSION:2.0
PRODID:-//https://calenda-formation.labocleo.org
X-WR-CALNAME:Calenda
X-WR-TIMEZONE:Europe/Paris
CALSCALE:GREGORIAN
X-WR-CALDESC:The calendar for arts, humanities and social sciences
METHOD:PUBLISH
BEGIN:VEVENT
DTSTART;VALUE=DATE:20100407
DTEND;VALUE=DATE:20100408
UID:200612-20100407@calenda.revues.org
SUMMARY:Rethinking the Atlantic
URL:https://calenda-formation.labocleo.org/200612
DESCRIPTION:L’océan Atlantique a été et demeure la voie de développement par excellence pour les pays riverains de l’hémisphère nord et\, de plus en plus\, pour les pays de l’hémisphère sud également. Or\, fait nouveau\, ces récentes années\, aux échanges transatlant… @plus_info https://calenda-formation.labocleo.org/200612
LOCATION:Montreal
END:VEVENT
END:VCALENDAR
