BEGIN:VCALENDAR
VERSION:2.0
PRODID:-//https://calenda-formation.labocleo.org
X-WR-CALNAME:Calenda
X-WR-TIMEZONE:Europe/Paris
CALSCALE:GREGORIAN
X-WR-CALDESC:Le calendrier des lettres et sciences humaines et sociales
METHOD:PUBLISH
BEGIN:VEVENT
DTSTART;VALUE=DATE:20100326
DTEND;VALUE=DATE:20100327
UID:200629-20100326@calenda.revues.org
SUMMARY:Migrations 
URL:https://calenda-formation.labocleo.org/200629
DESCRIPTION:Depuis une vingtaine d'années\, le thème des migrations est en vogue dans le milieu muséal. Le Musée de la civilisation de Québec a décidé de faire des migrations le thème central de sa nouvelle exposition permanente\, inaugurée au printemps 2010. À ce… Weitere Informationen https://calenda-formation.labocleo.org/200629
LOCATION:Québec
END:VEVENT
END:VCALENDAR
