BEGIN:VCALENDAR
VERSION:2.0
PRODID:-//https://calenda-formation.labocleo.org
X-WR-CALNAME:Calenda
X-WR-TIMEZONE:Europe/Paris
CALSCALE:GREGORIAN
X-WR-CALDESC:The calendar for arts, humanities and social sciences
METHOD:PUBLISH
BEGIN:VEVENT
DTSTART;VALUE=DATE:20101004
DTEND;VALUE=DATE:20101005
UID:200693-20101004@calenda.revues.org
SUMMARY:Retail and borders
URL:https://calenda-formation.labocleo.org/200693
DESCRIPTION:Le laboratoire Dynamique des réseaux et des territoires (EA 2468 DYRT) de l’université d’Artois accueille\, avec le soutien de la CCI d’Arras\, le colloque international de la commission Géographie du commerce du Comité national français de géographie.… @plus_info https://calenda-formation.labocleo.org/200693
LOCATION:Arras
END:VEVENT
END:VCALENDAR
