BEGIN:VCALENDAR
VERSION:2.0
PRODID:-//https://calenda-formation.labocleo.org
X-WR-CALNAME:Calenda
X-WR-TIMEZONE:Europe/Paris
CALSCALE:GREGORIAN
X-WR-CALDESC:Le calendrier des lettres et sciences humaines et sociales
METHOD:PUBLISH
BEGIN:VEVENT
DTSTART;VALUE=DATE:20100510
DTEND;VALUE=DATE:20100511
UID:200696-20100510@calenda.revues.org
SUMMARY: Mutations de l’espace et mobilités en terre d’Islam\, XIX-XXIe siècle
URL:https://calenda-formation.labocleo.org/200696
DESCRIPTION:Cette nouvelle édition des journées doctorales du Centre d’histoire sociale de l’Islam méditerranéen propose une réflexion sur les mutations de l'espace et les mobilités en terre d'Islam depuis le XIXe siècle. Débuter la chronologie au XIXe siècle co… @plus_info https://calenda-formation.labocleo.org/200696
LOCATION:Paris
END:VEVENT
END:VCALENDAR
