BEGIN:VCALENDAR
VERSION:2.0
PRODID:-//https://calenda-formation.labocleo.org
X-WR-CALNAME:Calenda
X-WR-TIMEZONE:Europe/Paris
CALSCALE:GREGORIAN
X-WR-CALDESC:Le calendrier des lettres et sciences humaines et sociales
METHOD:PUBLISH
BEGIN:VEVENT
DTSTART;VALUE=DATE:20100413
DTEND;VALUE=DATE:20100414
UID:200697-20100413@calenda.revues.org
SUMMARY:L’évaluation des établissements et des politiques documentaires à l’heure de la bibliométrie
URL:https://calenda-formation.labocleo.org/200697
DESCRIPTION:MEDIADIX Pôle des Métiers du Livre (université de Paris-Ouest) et l’URFIST de Paris s’associent pour proposer une Journée d’étude intitulée « L'évaluation des établissements et des politiques documentaires à l'heure de la bibliométrie » le mardi 13 a… Weitere Informationen https://calenda-formation.labocleo.org/200697
LOCATION:Saint-Cloud
END:VEVENT
END:VCALENDAR
