BEGIN:VCALENDAR
VERSION:2.0
PRODID:-//https://calenda-formation.labocleo.org
X-WR-CALNAME:Calenda
X-WR-TIMEZONE:Europe/Paris
CALSCALE:GREGORIAN
X-WR-CALDESC:Le calendrier des lettres et sciences humaines et sociales
METHOD:PUBLISH
BEGIN:VEVENT
DTSTART;VALUE=DATE:20100515
DTEND;VALUE=DATE:20100516
UID:200722-20100515@calenda.revues.org
SUMMARY:Penser la différence des sexes : que proposent les théories ?
URL:https://calenda-formation.labocleo.org/200722
DESCRIPTION:Si les écrits sur le féminin abondent\, la question de la différence des sexes fait peut-être moins recette. Délaissée au profit de la différence des genres\, souvent considérée comme une construction exclusivement sociale\, contestée dans sa réalité bi… Weitere Informationen https://calenda-formation.labocleo.org/200722
LOCATION:Moncton
END:VEVENT
END:VCALENDAR
