BEGIN:VCALENDAR
VERSION:2.0
PRODID:-//https://calenda-formation.labocleo.org
X-WR-CALNAME:Calenda
X-WR-TIMEZONE:Europe/Paris
CALSCALE:GREGORIAN
X-WR-CALDESC:The calendar for arts, humanities and social sciences
METHOD:PUBLISH
BEGIN:VEVENT
DTSTART;VALUE=DATE:20100630
DTEND;VALUE=DATE:20100701
UID:200725-20100630@calenda.revues.org
SUMMARY:Copy and imitation\, creative sources in textile production from the Middle Ages to the present day
URL:https://calenda-formation.labocleo.org/200725
DESCRIPTION:L'Association française pour l'étude des textiles organise ses journées d'études annuelles sur le thème de la copie et de l'imitation. Ces journées se dérouleront les 26 et 27 novembre 2010 à Lyon en partenariat avec le musée des Tissus de Lyon et La… @plus_info https://calenda-formation.labocleo.org/200725
LOCATION:Lyon
END:VEVENT
END:VCALENDAR
